BEGIN:VCALENDAR
VERSION:2.0
PRODID:-//Best Events - ECPv6.15.11//NONSGML v1.0//EN
CALSCALE:GREGORIAN
METHOD:PUBLISH
X-ORIGINAL-URL:https://bestevents.dk
X-WR-CALDESC:Begivenheder for Best Events
REFRESH-INTERVAL;VALUE=DURATION:PT1H
X-Robots-Tag:noindex
X-PUBLISHED-TTL:PT1H
BEGIN:VTIMEZONE
TZID:UTC
BEGIN:STANDARD
TZOFFSETFROM:+0000
TZOFFSETTO:+0000
TZNAME:UTC
DTSTART:20240101T000000
END:STANDARD
END:VTIMEZONE
BEGIN:VEVENT
DTSTART;TZID=UTC:20251003T200000
DTEND;TZID=UTC:20251003T220000
DTSTAMP:20260412T175305
CREATED:20250908T090000Z
LAST-MODIFIED:20250908T091122Z
UID:161-1759521600-1759528800@bestevents.dk
SUMMARY:New Event
DESCRIPTION:
URL:https://bestevents.dk/event/new-event/
LOCATION:Train\, Aarhus\, Toldbodgade 6\, Aarhus C\, Midtjylland\, 8000\, Denmark
ATTACH;FMTTYPE=image/jpeg:https://bestevents.dk/wp-content/uploads/2025/09/best-events-koncert6.jpg
END:VEVENT
BEGIN:VEVENT
DTSTART;TZID=UTC:20250911T173000
DTEND;TZID=UTC:20250911T193000
DTSTAMP:20260412T175305
CREATED:20250908T074818Z
LAST-MODIFIED:20250908T091244Z
UID:152-1757611800-1757619000@bestevents.dk
SUMMARY:Live Musik Event
DESCRIPTION:
URL:https://bestevents.dk/event/live-musik-event/
LOCATION:Musikkens Hus\, Aalborg\, Musikkens Plads 1\, Aalborg\, Nordjylland\, 9000\, Denmark
ATTACH;FMTTYPE=image/jpeg:https://bestevents.dk/wp-content/uploads/2025/09/best-events-koncert2.jpg
END:VEVENT
BEGIN:VEVENT
DTSTART;TZID=UTC:20250908T180000
DTEND;TZID=UTC:20250908T200000
DTSTAMP:20260412T175305
CREATED:20250908T074443Z
LAST-MODIFIED:20250908T091348Z
UID:147-1757354400-1757361600@bestevents.dk
SUMMARY:Koncert event
DESCRIPTION:
URL:https://bestevents.dk/event/koncert-event/
LOCATION:Royal Arena\, København\, Hannemanns Allé 20\, København S\, Hovedstaden\, 2300\, Denmark
ATTACH;FMTTYPE=image/jpeg:https://bestevents.dk/wp-content/uploads/2025/09/best-events-koncert1.jpg
END:VEVENT
END:VCALENDAR